Workbook

Sheet Nuur 1
K1: Сангийн сайдын 2017 оны
K2: 361 дугаар тушаалын
K3: 3 дугаар хавсралт
A7: Регистрийн дугаар: | D7: 8 | E7: 3 | F7: 8 | G7: 4 | H7: 5 | I7: 0 | J7: 9
A9: Хаяг: Сүхбаатар дүүргийн 1-р хороо IC Tower, 1502 тоот
A11: Шуудангийн хаяг:
A13: Утас: 75051575 | F13: Факс
A15: Өмчийн хэлбэр: Хувийн 100%
A20: Б | E20: "ИНВЕСКОР ГЛОБАЛ КЬЮ ХБАХОС"ХХК-ИЙН
E21: 2026 ОНЫ 03-Р УЛИРЛЫН
E22: САНХҮҮГИЙН ТАЙЛАН
B32: Хянаж хүлээн авсан байгууллагын нэр | H32: Сар, өдөр | K32: Гарын үсэг

Sheet Nuur 2
C5: " ИНВЕСКОР ГЛОБАЛ КЬЮ ХБАХОС" ХХК
E6: 2026 оны 03-р улирлын санхүүгийн тайлангийн
E7: бодит байдлын тухай мэдэгдэл
D9: 2026 оны 09 сарын 30 өдөр
B11: Захирал | C11: Ү.Гончигболд | D11: , ерөнхий нягтлан бодогч | G11: С.Дэлгэрмаа бид манай аж ахуйн
B12: нэгжийн 2026 оны 09-р сарын 30-ны өдрөөр тасалбар болгон гаргасан санхүүгийн тайланд
B13: тайлант хугацааны үйл ажиллагааны үр дүн, санхүүгийн байдлыг "Нягтлан бодох бүртгэлийн
B14: тухай" хуулийн 18.1 дэх заалтын дагуу үнэн зөв, бүрэн тусгасан болохыг баталж байна.
B15: Үүнд:
B16: 1. Бүх ажил гүйлгээ бодитоор гаргасан бөгөөд холбогдох анхан шатны баримтыг үндэслэн
B17: нягтлан бодох бүртгэл, санхүүгийн тайланд үнэн зөв тусгасан.
B18: 2. Санхүүгийн тайланд тусгагдсан бүх тооцоолол үнэн зөв хийгдсэн:
B19: 3. Аж ахуйн нэгжийн үйл ажиллагааны эдийн засаг, санхүүгийн бүхий л үйл явцыг иж бүрэн
B20: хамарсан
B21: 4. Тайлант үеийн үр дүнд өмнөх оны ажил гүйлгээнээс шилжин тусгагдаагүй, мөн тайлант
B22: үеийн ажил гүйлгээнээс орхигдсон зүйл байхгүй.
B23: 5. Бүх хөрөнгө, авлага, өр төлбөр, орлого зардлыг Санхүүгийн тайлагналын олон улсын
... B26: бөгөөд орхигдсон зүйл үгүй болно.
C29: Захирал | G29: Ү.Гончигболд
C31: Ерөнхий нягтлан бодогч | G31: С.Дэлгэрмаа

Sheet Balans 
A1: САНХҮҮГИЙН БАЙДЛЫН ТАЙЛАН
A2: "Инвескор Глобал Кью ХБАХОС" ХХК 2023 оны 12-р сарын 31 өдөр | C2: 2026 оны 09 сарын 30
A3: (Аж ахуйн нэгжийн нэр) | D3: (төгрөгөөр)
A4: Мөрийн дугаар | B4: Үзүүлэлт | C4: 2025 оны 12 сарын 31 | D4: 2026 оны 09 сарын 30
A6: 1 | B6: ХӨРӨНГӨ
A7: 1.1 | B7: Эргэлтийн хөрөнгө
A8: 1.1.1 | B8: Мөнгө ба түүнтэй адилтгах хөрөнгө | C8: 3347720.1 | D8: 952291.74
A9: 1.1.2 | B9: Дансны авлага | C9: 0 | D9: 0
A10: 1.1.3 | B10: Татвар, НДШ авлага
A11: 1.1.4 | B11: Бусад авлага | C11: 0 | D11: 0
A12: 1.1.5 | B12: Бусад санхүүгийн хөрөнгө | C12: 1.707604e+08 | D12: 1.6570536e+08
A13: 1.1.6 | B13: Бараа материал
A14: 1.1.7 | B14: Урьдчилж төлсөн зардал/тооцоо
A15: 1.1.8 | B15: Бусад эргэлтийн хөрөнгө
A16: 1.1.9 | B16: Борлуулах зорилгоор эзэмшиж буй эргэлтийн бус хөрөнгө (борлуулах бүлэг хөрөнгө)
A17: 1.1.10
A18: 1.1.1.1 | B18: Эргэлтийн хөрөнгийн дүн | C18: =SUM(C8:C17) -> 1.7410812e+08 | D18: =SUM(D8:D17) -> 1.6665766e+08
A19: 1.2 | B19: Эргэлтийн бус хөрөнгө
A20: 1.2.1 | B20: Үндсэн хөрөнгө
A21: 1.2.2 | B21: Биет бус хөрөнгө
A22: 1.2.3 | B22: Биологийн хөрөнгө
A23: 1.2.4 | B23: Урт хугацаат хөрөнгө оруулалт
A24: 1.2.5 | B24: Хайгуул ба үнэлгээний хөрөнгө
A25: 1.2.6 | B25: Хойшлогдсон татварын хөрөнгө
A26: 1.2.7 | B26: Хөрөнгө оруулалтын зориулалттай үл хөдлөх хөрөнгө
A27: 1.2.8 | B27: Бусад эргэлтийн бус хөрөнгө
A28: 1.2.9
A29: 1.2.10 | B29: Эргэлтийн бус хөрөнгийн дүн | C29: =SUM(C20:C28) -> 0 | D29: =D20+D21 -> 0
A30: 1.3 | B30: НИЙТ ХӨРӨНГИЙН ДҮН | C30: =C18+C29 -> 1.7410812e+08 | D30: =D18+D29 -> 1.6665766e+08
A31: 2 | B31: ӨР ТӨЛБӨР БА ЭЗДИЙН ӨМЧ
A32: 2.1 | B32: Өр төлбөр
A33: 2.1.1 | B33: Богино хугацаат өр төлбөр
A34: 2.1.1.1 | B34: Дансны өглөг | C34: 4351189.8 | D34: 6647705
A35: 2.1.1.2 | B35: Цалингийн өглөг | C35: 319320 | D35: 319320
A36: 2.1.1.3 | B36: Татварын өр | C36: 35480 | D36: 70960
A37: 2.1.1.4 | B37: НДШ-ийн өглөг | C37: 93200 | D37: 186400
A38: 2.1.1.5 | B38: Богино хугацаат зээл
A39: 2.1.1.6 | B39: Хүүний өглөг
A40: 2.1.1.7 | B40: Ногдол ашгийн өглөг
A41: 2.1.1.8 | B41: Урьдчилж орсон орлого
...

Sheet Orlogo
A2: ОРЛОГЫН ДЭЛГЭРЭНГҮЙ ТАЙЛАН
A4: "Инвескор Глобал Кью ХБАХОС" ХХК 2023 оны 12-р сарын 31 өдөр | C4: 2026 оны 09 сарын 30
A5: (Аж ахуйн нэгжийн нэр) | D5: (төгрөгөөр)
A6: Мөрийн дугаар | B6: Үзүүлэлт | C6: 2025 оны 12 сарын 31 | D6: 2026 оны 09 сарын 30
A7: 1 | B7: Борлуулалтын орлого (цэвэр)
A8: 2 | B8: Борлуулалтын өртөг
A9: 3 | B9: Нийт ашиг /алдагдал/
A10: 4 | B10: Түрээсийн орлого
A11: 5 | B11: Хүүний орлого
A12: 6 | B12: Ногдол ашгийн орлого | C12: 481467.73 | D12: 700213.37
A13: 7 | B13: Эрхийн шимтгэлийн орлого
A14: 8 | B14: Бусад орлого | C14: 140000 | D14: 145439.12
A15: 9 | B15: Борлуулалт, маркетингийн зардал
A16: 10 | B16: Ерөнхий ба удирдлагын зардал | C16: 11215571 | D16: 6827146
A17: 11 | B17: Санхүүгийн зардал
A18: 12 | B18: Бусад зардал
A19: 13 | B19: Гадаад валютын ханшийн зөрүүний олз (гарз) | C19: -101387.66 | D19: 11172.66
A20: 14 | B20: Үндсэн хөрөнгө данснаас хассаны олз (гарз)
A21: 15 | B21: Биет бус хөрөнгө данснаас хассаны олз (гарз)
A22: 16 | B22: Хөрөнгө оруулалт борлуулсанаас үүссэн олз (гарз)
A23: 17 | B23: Бусад ашиг (алдагдал) | C23: 46472049 | D23: 25182481
A24: 18 | B24: Татвар төлөхийн өмнөх ашиг /Алдагдал/ | C24: =C9+SUM(C10:C14)-SUM(C15:C18)+SUM(C19:C23) -> 35776558 | D24: =D9+SUM(D10:D14)-SUM(D15:D18)+SUM(D19:D23) -> 19212160
A25: 19 | B25: Орлогын татварын зардал | C25: 0 | D25: 0
A26: 20 | B26: Татварын дараах ашиг /алдагдал/ | C26: =+C24-C25 -> 35776558 | D26: =D24-D25 -> 19212160
A27: 21 | B27: Зогсоосон үйл ажиллагааны татварын дараах ашиг (алдагдал)
A28: 22 | B28: Тайлант үеийн цэвэр ашиг /алдагдал/ | C28: =+C25+C26+C27 -> 35776558 | D28: =+D25+D26+D27 -> 19212160
A29: 23 | B29: Бусад дэлгэрэнгүй орлого
A30: 24 | B30: Хөрөнгийн дахин үнэлгээний нэмэгдлийн зөрүү
A31: 25 | B31: Гадаад валютын хөрвүүлэлтийн зөрүү
A32: 26 | B32: Бусад олз (гарз)
A33: 27 | B33: Нийт дэлгэрэнгүй орлогын дүн | C33: =+C28 -> 35776558 | D33: =+D28 -> 19212160
A34: 28 | B34: Нэгж хувьцаанд ногдох суурь ашиг (алдагдал)
B36: Захирал | C36: =+'Balans '!C75 -> Ү.Гончигболд
B38: Ерөнхий нягтлан бодогч | C38: =+'Balans '!C77 -> С.Дэлгэрмаа

Sheet Umch
A1: ӨМЧИЙН ӨӨРЧЛӨЛТИЙН ТАЙЛАН
A2: "Инвескор Глобал Кью ХБАХОС" ХХК | H2: 2026 оны 09 сарын 30
A3: (Аж ахуйн нэгжийн нэр) | J3: (төгрөгөөр)
B4: ҮЗҮҮЛЭЛТ | C4: Өмч | D4: Халаасны хувьцаа | E4: Нэмж төлөгдсөн капитал | F4: Хөрөнгийн дахин үнэлгээний нэмэгдэл | G4: Гадаад валютын хөрвүүлэлтийн нөөц | H4: Эздийн өмчийн бусад хэсэг | I4: Хуримтлагдсан ашиг | J4: Нийт дүн
A5: 1 | B5: 2025 оны 12 сарын 31-ний үлдэгдэл | C5: 1.3478559e+08 | I5: 34523349 | J5: =SUM(C5:I5) -> 1.6930893e+08
A6: 2 | B6: Нягтлан бодох бүртгэлийн бодлогын өөрчлөлтийн нөлөө, алдааны залруулга | I6: 0 | J6: =SUM(C6:I6) -> 0
A7: 3 | B7: Залруулсан үлдэгдэл | C7: =+C5+C6 -> 1.3478559e+08 | D7: =+D5+D6 -> 0 | E7: =+E5+E6 -> 0 | F7: =+F5+F6 -> 0 | G7: =+G5+G6 -> 0 | H7: =+H5+H6 -> 0 | I7: =+I5+I6 -> 34523349 | J7: =+J5+J6 -> 1.6930893e+08
A8: 4 | B8: Тайлант үеийн цэвэр ашиг (алдагдал) | I8: 0 | J8: =SUM(C8:I8) -> 0
A9: 5 | B9: Бусад дэлгэрэнгүй орлого
A10: 6 | B10: Өмчид гарсан өөрчлөлт | C10: 0 | J10: =SUM(C10:I10) -> 0
A11: 7 | B11: Зарласан ногдол ашиг
A12: 8 | B12: Дахин үнэлгээний нэмэгдлийн хэрэгжсэн дүн
A13: 9 | B13: 2025 оны 12 сарын 31 -ний үлдэгдэл | C13: =SUM(C7:C12) -> 1.3478559e+08 | D13: =SUM(D7:D12) -> 0 | E13: =SUM(E7:E12) -> 0 | F13: =SUM(F7:F12) -> 0 | G13: =SUM(G7:G12) -> 0 | H13: =SUM(H7:H12) -> 0 | I13: =SUM(I7:I12) -> 34523349 | J13: =SUM(J7:J12) -> 1.6930893e+08
A14: 10 | B14: Нягтлан бодох бүртгэлийн бодлогын өөрчлөлтийн нөлөө, алдааны залруулга | I14: 0 | J14: =SUM(C14:I14) -> 0
A15: 11 | B15: Залруулсан үлдэгдэл | C15: =+C13+C14 -> 1.3478559e+08 | D15: =+D13+D14 -> 0 | E15: =+E13+E14 -> 0 | F15: =+F13+F14 -> 0 | G15: =+G13+G14 -> 0 | H15: =+H13+H14 -> 0 | I15: =+I13+I14 -> 34523349 | J15: =+J13+J14 -> 1.6930893e+08
A16: 12 | B16: Тайлант үеийн цэвэр ашиг (алдагдал) | I16: =+Orlogo!D28 -> 19212160 | J16: =SUM(C16:I16) -> 19212160
A17: 13 | B17: Бусад дэлгэрэнгүй орлого | J17: =SUM(C17:I17) -> 0
A18: 14 | B18: Өмчид гарсан өөрчлөлт | C18: -29087824 | J18: =SUM(C18:I18) -> -29087824
A19: 15 | B19: Зарласан ногдол ашиг | J19: =SUM(C19:I19) -> 0
A20: 16 | B20: Дахин үнэлгээний нэмэгдлийн хэрэгжсэн дүн | J20: =SUM(C20:I20) -> 0
A21: 17 | B21: 2026 оны 09 сарын 30 -ны үлдэгдэл | C21: =SUM(C15:C20) -> 1.0569776e+08 | D21: =SUM(D15:D20) -> 0 | E21: =SUM(E15:E20) -> 0 | F21: =SUM(F15:F20) -> 0 | G21: =SUM(G15:G20) -> 0 | H21: =SUM(H15:H20) -> 0 | I21: =SUM(I15:I20) -> 53735509 | J21: =SUM(J15:J20) -> 1.5943327e+08
E23: Захирал | H23: Ү.Гончигболд
D25: Ерөнхий нягтлан бодогч | H25: С.Дэлгэрмаа

Sheet Mungu
A1: МӨНГӨН ГҮЙЛГЭЭНИЙ ТАЙЛАН
A2: "Инвескор Глобал Кью ХБАХОС" ХХК | C2: 2026 оны 09 сарын 30
A3: (Аж ахуйн нэгжийн нэр) | D3: (төгрөгөөр)
A4: Мөрийн дугаар | B4: Үзүүлэлт | C4: 2025 оны 12 сарын 31 | D4: 2026 оны 09 сарын 30
A5: 1 | B5: Үндсэн үйл ажиллагааны мөнгөн гүйлгээ
A6: 1.1 | B6: Мөнгөн орлогын дүн (+) | C6: =SUM(C7:C12) -> 140000 | D6: =SUM(D7:D12) -> 217851.05
B7: Бараа борлуулсан, үйлчилгээ үзүүлсний орлого | D7: 209082.68
B8: Эрхийн шимтгэл, хураамж, төлбөрийн орлого
B9: Даатгалын нөхвөрөөс хүлээн авсан мөнгө
B10: Буцаан авсан албан татвар
B11: Татаас санхүүжилтийн орлого
B12: Бусад мөнгөн орлого | C12: 140000 | D12: 8768.37
A13: 1.2 | B13: Мөнгөн зарлагын дүн (-) | C13: =SUM(C14:C22) -> 30326124 | D13: =SUM(D14:D22) -> 4401951.1
B14: Ажиллагчдад төлсөн | C14: 957960 | D14: 957960
B15: Нийгмийн даатгалын байгууллагад төлсөн | C15: 279600 | D15: 186400
B16: Бараа материал худалдан авахад төлсөн
B17: Ашиглалтын зардалд төлсөн
B18: Түлш шатахуун, тээврийн хөлс, сэлбэг хэрэгсэлд төлсөн
B19: Хүүний төлбөрт төлсөн
B20: Татварын байгууллагад төлсөн | C20: 106440 | D20: 70960
B21: Даатгалын төлбөрт төлсөн
B22: Бусад мөнгөн зарлага | C22: 28982124 | D22: 3186631.1
A23: 1.3 | B23: Үндсэн үйл ажиллагааны цэвэр мөнгөн гүйлгээний дүн | C23: =C6-C13 -> -30186124 | D23: =D6-D13 -> -4184100
A24: 2 | B24: Хөрөнгө оруулалтын үйл ажиллагааны мөнгөн гүйлгээ
A25: 2.1 | B25: Мөнгөн орлогын дүн (+) | C25: =SUM(C26:C33) -> 28388956 | D25: =SUM(D26:D33) -> 30874091
B26: Үндсэн хөрөнгө борлуулсны орлого
B27: Биет бус хөрөнгө борлуулсны орлого
B28: Хөрөнгө оруулалт борлуулсны орлого | C28: 27907489 | D28: 30333930
B29: Бусад урт хугацаат хөрөнгө борлуулсны орлого
B30: Бусдад олгосон зээл, мөнгөн урьдчилгааны буцаан төлөлт
B31: Хүлээн авсан хүүний орлого
B32: Хүлээн авсан ногдол ашиг | C32: 481467.73 | D32: 491130.69
B33: Бусад мөнгөн орлого | D33: 49029.57
A34: 2.2 | B34: Мөнгөн зарлагын дүн (-) | C34: =SUM(C35:C40) -> 55254877 | D34: =SUM(D35:D40) -> 0
B35: Үндсэн хөрөнгө олж эзэмшихэд төлсөн
B36: Биет бус хөрөнгө олж эзэмшихэд төлсөн
B37: Хөрөнгө оруулалт олж эзэмшихэд төлсөн | C37: 55254877 | D37: 0
B38: Бусад урт хугацаат хөрөнгө олж эзэмшихэд төлсөн
B39: Бусдад олгосон зээл болон урьдчилгаа | D39: 0
A41: 2.3 | B41: Хөрөнгө оруулалтын үйл ажиллагааны цэвэр мөнгөн гүйлгээний дүн | C41: =C25-C34 -> -26865921 | D41: =+D25-D34 -> 30874091
...
